BEGIN:VCALENDAR
VERSION:2.0
PRODID:-//ChamberMaster//Event Calendar 2.0//EN
METHOD:PUBLISH
X-PUBLISHED-TTL:P3D
REFRESH-INTERVAL:P3D
CALSCALE:GREGORIAN
BEGIN:VEVENT
DTSTART:20200130T013000Z
DTEND:20200130T030000Z
X-MICROSOFT-CDO-ALLDAYEVENT:FALSE
SUMMARY:After Hours Networking Mixer - Hosted by Oak View of Sonoma Hills
DESCRIPTION:Come join Oak View of Sonoma Hills and the Rohnert Park Chamber of Commerce for an After Hours networking mixer!\n\n	Complimentary appetizers\n	Free to attend and open to all\n	Raffle prizes
X-ALT-DESC;FMTTYPE=text/html:Come join Oak View of Sonoma Hills and the Rohnert&nbsp\;Park Chamber of Commerce&nbsp\;for an After Hours networking mixer!\n<ul>\n	<li>Complimentary appetizers</li>\n	<li>Free to attend and open to all</li>\n	<li>Raffle prizes</li>\n</ul>\n
LOCATION:Hosted by Oak View of Sonoma Hills 1350 Oak View Circle Rohnert Park\, CA 94928
UID:e.3154.1495
SEQUENCE:3
DTSTAMP:20260422T201328Z
URL:https://www.rohnertparkchamber.org/events/details/after-hours-networking-mixer-hosted-by-oak-view-of-sonoma-hills-1495
END:VEVENT

END:VCALENDAR
