BEGIN:VCALENDAR
VERSION:2.0
PRODID:-//ChamberMaster//Event Calendar 2.0//EN
METHOD:PUBLISH
X-PUBLISHED-TTL:P3D
REFRESH-INTERVAL:P3D
CALSCALE:GREGORIAN
BEGIN:VEVENT
DTSTART:20191024T003000Z
DTEND:20191024T020000Z
X-MICROSOFT-CDO-ALLDAYEVENT:FALSE
SUMMARY:After Hours Networking Mixer - Hosted by Mary's Pizza Shack Rohnert Park
DESCRIPTION:Come join Mary's Pizza Shack and the Rohnert Park Chamber of Commerce for an After Hours Networking Mixer!  Mixer will be held on the patio\, so dress appropriately.\n\n	Complimentary appetizers\n	Free to attend & Open to all\n	Raffle prizes - Bring a raffle prize & advertise your business
X-ALT-DESC;FMTTYPE=text/html:Come join Mary&#39\;s Pizza Shack and the Rohnert Park Chamber of Commerce for an After Hours Networking Mixer!&nbsp\; Mixer will be held on the patio\, so dress appropriately.\n<ul>\n	<li>Complimentary appetizers</li>\n	<li>Free to attend &amp\; Open to all</li>\n	<li>Raffle prizes - Bring a raffle prize &amp\; advertise your business</li>\n</ul>\n
LOCATION:Hosted by Mary's Pizza Shack 101 Golf Course Drive Rohnert Park\, CA 94928 Held on the Patio
UID:e.3154.945
SEQUENCE:3
DTSTAMP:20260422T160410Z
URL:https://www.rohnertparkchamber.org/events/details/after-hours-networking-mixer-hosted-by-mary-s-pizza-shack-rohnert-park-945
END:VEVENT

END:VCALENDAR
