BEGIN:VCALENDAR
VERSION:2.0
PRODID:-//ChamberMaster//Event Calendar 2.0//EN
METHOD:PUBLISH
X-PUBLISHED-TTL:P3D
REFRESH-INTERVAL:P3D
CALSCALE:GREGORIAN
BEGIN:VEVENT
DTSTART:20200116T013000Z
DTEND:20200116T030000Z
X-MICROSOFT-CDO-ALLDAYEVENT:FALSE
SUMMARY:After Hours Networking Mixer - Hosted by Education Foundation of Cotati & Rohnert Park
DESCRIPTION:Come join the Education Foundation of Cotati & Rohnert Park and the Rohnert Park and Cotati Chambers of Commerce for an After Hours networking mixer!\n\n	Complimentary appetizers and No Host Bar\n	Free to attend and open to all\n	Raffle prizes
X-ALT-DESC;FMTTYPE=text/html:Come join the Education Foundation of Cotati &amp\; Rohnert Park and the Rohnert&nbsp\;Park and Cotati Chambers of Commerce&nbsp\;for an After Hours networking mixer!\n<ul>\n	<li>Complimentary appetizers and No Host Bar</li>\n	<li>Free to attend and open to all</li>\n	<li>Raffle prizes</li>\n</ul>\n
LOCATION:Hosted by Education Foundation of Cotati & Rohnert Park at Sally Tomatoes Catering & Event Center 1100 Valley House Drive Rohnert Park\, CA 94928
UID:e.3154.1451
SEQUENCE:3
DTSTAMP:20260422T201534Z
URL:https://www.rohnertparkchamber.org/events/details/after-hours-networking-mixer-hosted-by-education-foundation-of-cotati-rohnert-park-1451
END:VEVENT

END:VCALENDAR
