BEGIN:VCALENDAR
VERSION:2.0
PRODID:-//ChamberMaster//Event Calendar 2.0//EN
METHOD:PUBLISH
X-PUBLISHED-TTL:P3D
REFRESH-INTERVAL:P3D
CALSCALE:GREGORIAN
BEGIN:VEVENT
DTSTART:20190926T003000Z
DTEND:20190926T020000Z
X-MICROSOFT-CDO-ALLDAYEVENT:FALSE
SUMMARY:After Hours Networking Mixer - Hosted by Clearwater at Sonoma Hills
DESCRIPTION:Come join Clearwater at Sonoma Hills and the Rohnert Park Chamber of Commerce for an After Hours networking mixer!\n\n	Complimentary appetizers\n	Free to attend and open to all\n	Raffle prizes\n	Bring a raffle prize & advertise your business!
X-ALT-DESC;FMTTYPE=text/html:Come join Clearwater at Sonoma Hills and the Rohnert&nbsp\;Park Chamber of Commerce&nbsp\;for an After Hours networking mixer!\n<ul>\n	<li>Complimentary appetizers</li>\n	<li>Free to attend and open to all</li>\n	<li>Raffle prizes</li>\n	<li>Bring a raffle prize &amp\; advertise your business!</li>\n</ul>\n
LOCATION:Hosted by Clearwater at Sonoma Hills 1331 Medical Center Drive\, Suite D Rohnert Park\, CA 94928
UID:e.3154.952
SEQUENCE:3
DTSTAMP:20260422T144839Z
URL:https://www.rohnertparkchamber.org/events/details/after-hours-networking-mixer-hosted-by-clearwater-at-sonoma-hills-952
END:VEVENT

END:VCALENDAR
