BEGIN:VCALENDAR
VERSION:2.0
PRODID:-//ChamberMaster//Event Calendar 2.0//EN
METHOD:PUBLISH
X-PUBLISHED-TTL:P3D
REFRESH-INTERVAL:P3D
CALSCALE:GREGORIAN
BEGIN:VEVENT
DTSTART:20190919T003000Z
DTEND:20190919T020000Z
X-MICROSOFT-CDO-ALLDAYEVENT:FALSE
SUMMARY:After Hours Networking Mixer - Hosted by Animal Shelter League
DESCRIPTION:Come join Rohnert Park Animal Shelter League and the Rohnert Park Chamber of Commerce for an After Hours networking mixer!\n\n	Complimentary appetizers\n	Free to attend and open to all\n	Raffle prizes
X-ALT-DESC;FMTTYPE=text/html:Come join Rohnert Park Animal Shelter League and the Rohnert&nbsp\;Park Chamber of Commerce&nbsp\;for an After Hours networking mixer!\n<ul>\n	<li>Complimentary appetizers</li>\n	<li>Free to attend and open to all</li>\n	<li>Raffle prizes</li>\n</ul>\n
LOCATION:Rohnert Park Animal Shelter League 301 J Rogers Lane Rohnert Park\, CA 94928
UID:e.3154.947
SEQUENCE:3
DTSTAMP:20260422T144845Z
URL:https://www.rohnertparkchamber.org/events/details/after-hours-networking-mixer-hosted-by-animal-shelter-league-947
END:VEVENT

END:VCALENDAR
