BEGIN:VCALENDAR
VERSION:2.0
PRODID:-//ChamberMaster//Event Calendar 2.0//EN
METHOD:PUBLISH
X-PUBLISHED-TTL:P3D
REFRESH-INTERVAL:P3D
CALSCALE:GREGORIAN
BEGIN:VEVENT
DTSTART:20191219T013000Z
DTEND:20191219T030000Z
X-MICROSOFT-CDO-ALLDAYEVENT:FALSE
SUMMARY:After Hours Holiday Networking Mixer - Hosted by Sonoma Distilling Company
DESCRIPTION:Come join Sonoma Distilling Company and the Rohnert Park Chamber of Commerce for an After Hours Holiday Networking Mixer!  \n\n	Complimentary appetizers will be provided \n	Free to attend and open to all\n	Extra Special Raffle Prizes!  Tickets $1 each or $20 for a Wingspan - Bring a raffle prize & advertise your business\n	Chamber Member Pot of Gold Drawing - All members entered\, you must be present to win
X-ALT-DESC;FMTTYPE=text/html:Come join Sonoma Distilling Company and the Rohnert&nbsp\;Park Chamber of Commerce&nbsp\;for an After Hours Holiday Networking Mixer!&nbsp\;&nbsp\;\n<ul>\n	<li>Complimentary appetizers will be provided&nbsp\;</li>\n	<li>Free to attend and open to all</li>\n	<li>Extra Special Raffle Prizes!&nbsp\; Tickets $1 each or $20 for a Wingspan - Bring a raffle prize &amp\; advertise your business</li>\n	<li>Chamber Member Pot of Gold Drawing - All members entered\, you must be present to win</li>\n</ul>\n
LOCATION:Sonoma Distilling Company 5535 State Farm Drive Rohnert Park\, CA 94928
UID:e.3154.906
SEQUENCE:3
DTSTAMP:20260422T184724Z
URL:https://www.rohnertparkchamber.org/events/details/after-hours-holiday-networking-mixer-hosted-by-sonoma-distilling-company-906
END:VEVENT

END:VCALENDAR
