BEGIN:VCALENDAR
VERSION:2.0
PRODID:-//ChamberMaster//Event Calendar 2.0//EN
METHOD:PUBLISH
X-PUBLISHED-TTL:P3D
REFRESH-INTERVAL:P3D
CALSCALE:GREGORIAN
BEGIN:VEVENT
DTSTART:20191214T230000Z
DTEND:20191215T010000Z
X-MICROSOFT-CDO-ALLDAYEVENT:FALSE
SUMMARY:A Winter Celebration
DESCRIPTION:Join us! Support us! Your Rohnert Park Community Chorale presents their annual Winter Concert - "A Winter Celebration". A variety of choral works celebrating the season with joy and harmony\; Director: Karen Ball\, Accompaniest: Lori Sikorski Reception immediately following the performance.
X-ALT-DESC;FMTTYPE=text/html:Join us! Support us! Your Rohnert Park Community Chorale presents their annual Winter Concert - &quot\;A Winter Celebration&quot\;. A variety of choral works celebrating the season with joy and harmony\; Director: Karen Ball\, Accompaniest: Lori Sikorski Reception immediately following the performance.
LOCATION:Rohnert Park Burton Recreation Center\, 7421 Burton Ave.\, Rohnert Park
UID:e.3154.1516
SEQUENCE:3
DTSTAMP:20260422T184521Z
URL:https://www.rohnertparkchamber.org/events/details/a-winter-celebration-1516
END:VEVENT

END:VCALENDAR
