BEGIN:VCALENDAR
VERSION:2.0
PRODID:-//ChamberMaster//Event Calendar 2.0//EN
METHOD:PUBLISH
X-PUBLISHED-TTL:P3D
REFRESH-INTERVAL:P3D
CALSCALE:GREGORIAN
BEGIN:VEVENT
DTSTART:20240204T013000Z
DTEND:20240204T050000Z
X-MICROSOFT-CDO-ALLDAYEVENT:FALSE
SUMMARY:5th Annual Rotary Crab Feed & Seafood Festival
DESCRIPTION:Homemade New England-style Clam Chowder\n\nBay Shrimp Louie Salad\n\nFresh-baked Garlic Bread\n\nFresh\, Hot\, Cracked Dungeness Crab\n\nwith Drawn Butter\, Lemons & Aioli\n\n*********************************************************************************\n\nAuction\, Raffle Prizes\, Dessert Auction
X-ALT-DESC;FMTTYPE=text/html:<br />\nHomemade New England-style Clam Chowder<br />\nBay Shrimp Louie Salad<br />\nFresh-baked Garlic Bread<br />\nFresh\, Hot\, Cracked Dungeness Crab<br />\nwith Drawn Butter\, Lemons &amp\; Aioli<br />\n*********************************************************************************<br />\nAuction\, Raffle Prizes\, Dessert Auction
LOCATION:Sally Tomatoes Event Center 1100 Valley House Dr.\, Rohnert Park
UID:e.3154.3001
SEQUENCE:3
DTSTAMP:20260423T084005Z
URL:https://www.rohnertparkchamber.org/events/details/5th-annual-rotary-crab-feed-seafood-festival-3001
END:VEVENT

END:VCALENDAR
