BEGIN:VCALENDAR
VERSION:2.0
PRODID:-//ChamberMaster//Event Calendar 2.0//EN
METHOD:PUBLISH
X-PUBLISHED-TTL:P3D
REFRESH-INTERVAL:P3D
CALSCALE:GREGORIAN
BEGIN:VEVENT
DTSTART:20191208T010000Z
DTEND:20191208T030000Z
X-MICROSOFT-CDO-ALLDAYEVENT:FALSE
SUMMARY:37th Annual Holiday Lights Celebration
DESCRIPTION:Join us for this honored Rohnert Park community tradition.  It's a free celebration and fun for all ages:\n\n	Free pictures with Santa Claus and Mrs. Claus\n	Holiday Music provided by Rancho Cotate High School Marching Band and Choir\n	Complimentary holiday treats and refreshments\n	Lots of fun\, free kid's activities too!
X-ALT-DESC;FMTTYPE=text/html:Join us for this honored Rohnert Park community tradition.&nbsp\; It&#39\;s a free celebration and fun for all ages:\n<ul>\n	<li>Free pictures with Santa Claus and Mrs. Claus</li>\n	<li>Holiday Music provided by Rancho Cotate High School Marching Band and Choir</li>\n	<li>Complimentary holiday treats and refreshments</li>\n	<li>Lots of fun\,&nbsp\;free kid&#39\;s activities too!</li>\n</ul>\n
LOCATION:New Location!! Community Center ~ 5401 Snyder Lane
UID:e.3154.954
SEQUENCE:3
DTSTAMP:20260422T184603Z
URL:https://www.rohnertparkchamber.org/events/details/37th-annual-holiday-lights-celebration-954
END:VEVENT

END:VCALENDAR
