BEGIN:VCALENDAR
VERSION:2.0
PRODID:-//ChamberMaster//Event Calendar 2.0//EN
METHOD:PUBLISH
X-PUBLISHED-TTL:P3D
REFRESH-INTERVAL:P3D
CALSCALE:GREGORIAN
BEGIN:VEVENT
DTSTART:20221125T170000Z
DTEND:20221126T050000Z
X-MICROSOFT-CDO-ALLDAYEVENT:FALSE
SUMMARY:365's Green Friday Doorbuster Event
DESCRIPTION:Stop by 365 on "Green" Friday between 9am-9pm for a fun post-Thanksgiving bash!\n\n\n\nCome out to meet with your favorite brands\, shake off the cold with our awesome friend Zak from Old Pal during his live DJ set (12-6pm)\, enjoy some delicious food from the Damn Dogs food truck and enjoy a ton (we mean a TON) of incredible doorbuster opportunities!\n\n\n\nYour community canna-fam at 365 can't wait to see you! 21+ or 18+ with valid medical card ONLY!
X-ALT-DESC;FMTTYPE=text/html:<br />\n<span style="font-size:14px"><span style="color:rgb(26\, 39\, 50)\; font-family:itc lubalin graph std book\,sanchez\,sans-serif">Stop by 365 on &quot\;Green&quot\; Friday between 9am-9pm for a fun post-Thanksgiving bash!<br />\n<br />\nCome out to meet with your favorite brands\, shake off the cold with our awesome friend Zak from Old Pal during his live DJ set (12-6pm)\, enjoy some delicious food from the Damn Dogs food truck and enjoy a ton (we mean a TON) of incredible doorbuster opportunities!<br />\n<br />\nYour community canna-fam at 365 can&#39\;t wait to see you! 21+ or 18+ with valid medical card ONLY!</span></span>
LOCATION:365 Recreational Cannabis
UID:e.3154.2635
SEQUENCE:3
DTSTAMP:20260419T123919Z
URL:https://www.rohnertparkchamber.org/events/details/365-s-green-friday-doorbuster-event-2635
END:VEVENT

END:VCALENDAR
