BEGIN:VCALENDAR
VERSION:2.0
PRODID:-//ChamberMaster//Event Calendar 2.0//EN
METHOD:PUBLISH
X-PUBLISHED-TTL:P3D
REFRESH-INTERVAL:P3D
CALSCALE:GREGORIAN
BEGIN:VEVENT
DTSTART:20200101T050000Z
DTEND:20200101T093000Z
X-MICROSOFT-CDO-ALLDAYEVENT:FALSE
SUMMARY:2020 New Years Eve Party
DESCRIPTION:This is the hottest New Year's Eve celebration in Sonoma County. We are rolling out the red carpet to create a beautiful\, high class event with a complimentary champagne bar\, complimentary passed appetizers\, multiple DJ's and entertainment. Doors open at 9pm. There is a limited amount of VIP tables\, please contact Perch and Plow for more information. Black tie optional. This event will sell out.
X-ALT-DESC;FMTTYPE=text/html:This is the hottest New Year&rsquo\;s Eve celebration in Sonoma County. We are rolling out the red carpet to create a beautiful\, high class event with a complimentary champagne bar\, complimentary passed appetizers\, multiple DJ&#39\;s and entertainment. Doors open at 9pm. There is a limited amount of VIP tables\, please contact Perch and Plow for more information. Black tie optional. This event will sell out.
LOCATION:Perch and Plow 96 Old Courthouse Square Santa Rosa\, CA 95404
UID:e.3154.1528
SEQUENCE:3
DTSTAMP:20260422T184648Z
URL:https://www.rohnertparkchamber.org/events/details/2020-new-years-eve-party-1528
END:VEVENT

END:VCALENDAR
